BEGIN:VCALENDAR
VERSION:2.0
PRODID:-//Talamanca - ECPv6.15.15//NONSGML v1.0//EN
CALSCALE:GREGORIAN
METHOD:PUBLISH
X-WR-CALNAME:Talamanca
X-ORIGINAL-URL:https://www.talamancadejarama.org
X-WR-CALDESC:Eventos para Talamanca
REFRESH-INTERVAL;VALUE=DURATION:PT1H
X-Robots-Tag:noindex
X-PUBLISHED-TTL:PT1H
BEGIN:VTIMEZONE
TZID:Europe/Paris
BEGIN:DAYLIGHT
TZOFFSETFROM:+0100
TZOFFSETTO:+0200
TZNAME:CEST
DTSTART:20210328T010000
END:DAYLIGHT
BEGIN:STANDARD
TZOFFSETFROM:+0200
TZOFFSETTO:+0100
TZNAME:CET
DTSTART:20211031T010000
END:STANDARD
BEGIN:DAYLIGHT
TZOFFSETFROM:+0100
TZOFFSETTO:+0200
TZNAME:CEST
DTSTART:20220327T010000
END:DAYLIGHT
BEGIN:STANDARD
TZOFFSETFROM:+0200
TZOFFSETTO:+0100
TZNAME:CET
DTSTART:20221030T010000
END:STANDARD
BEGIN:DAYLIGHT
TZOFFSETFROM:+0100
TZOFFSETTO:+0200
TZNAME:CEST
DTSTART:20230326T010000
END:DAYLIGHT
BEGIN:STANDARD
TZOFFSETFROM:+0200
TZOFFSETTO:+0100
TZNAME:CET
DTSTART:20231029T010000
END:STANDARD
END:VTIMEZONE
BEGIN:VEVENT
DTSTART;VALUE=DATE:20220416
DTEND;VALUE=DATE:20220417
DTSTAMP:20260420T125545
CREATED:20220609T144401Z
LAST-MODIFIED:20220609T144401Z
UID:5378-1650067200-1650153599@www.talamancadejarama.org
SUMMARY:Hoy termina el plazo para información de las peñas que se presentan en Fiestas
DESCRIPTION:FIESTAS PATRONALES 2022\nYa están más cerca nuestras fiestas patronales\, y para su buen desarrollo\, solicitamos a las peñas nos envíen un mail con el nombre de la misma y todos sus integrantes antes del día 16 de abril. \nLas peñas que hayan solicitado carpa no es necesario que vuelvan a enviarlo. \nfestejos@talamancadejarama.org
URL:https://www.talamancadejarama.org/evento/hoy-termina-el-plazo-para-informacion-de-las-penas-que-se-presentan-en-fiestas/
CATEGORIES:Festividades locales
ATTACH;FMTTYPE=image/jpeg:https://www.talamancadejarama.org/wp-content/uploads/2022/06/aviso-fiestas-22-768x1024-1.jpg
END:VEVENT
END:VCALENDAR