BEGIN:VCALENDAR
VERSION:2.0
PRODID:-//Talamanca - ECPv6.15.15//NONSGML v1.0//EN
CALSCALE:GREGORIAN
METHOD:PUBLISH
X-WR-CALNAME:Talamanca
X-ORIGINAL-URL:https://www.talamancadejarama.org
X-WR-CALDESC:Eventos para Talamanca
REFRESH-INTERVAL;VALUE=DURATION:PT1H
X-Robots-Tag:noindex
X-PUBLISHED-TTL:PT1H
BEGIN:VTIMEZONE
TZID:Europe/Paris
BEGIN:DAYLIGHT
TZOFFSETFROM:+0100
TZOFFSETTO:+0200
TZNAME:CEST
DTSTART:20210328T010000
END:DAYLIGHT
BEGIN:STANDARD
TZOFFSETFROM:+0200
TZOFFSETTO:+0100
TZNAME:CET
DTSTART:20211031T010000
END:STANDARD
BEGIN:DAYLIGHT
TZOFFSETFROM:+0100
TZOFFSETTO:+0200
TZNAME:CEST
DTSTART:20220327T010000
END:DAYLIGHT
BEGIN:STANDARD
TZOFFSETFROM:+0200
TZOFFSETTO:+0100
TZNAME:CET
DTSTART:20221030T010000
END:STANDARD
BEGIN:DAYLIGHT
TZOFFSETFROM:+0100
TZOFFSETTO:+0200
TZNAME:CEST
DTSTART:20230326T010000
END:DAYLIGHT
BEGIN:STANDARD
TZOFFSETFROM:+0200
TZOFFSETTO:+0100
TZNAME:CET
DTSTART:20231029T010000
END:STANDARD
END:VTIMEZONE
BEGIN:VEVENT
DTSTART;TZID=Europe/Paris:20220312T110000
DTEND;TZID=Europe/Paris:20220312T110000
DTSTAMP:20260420T140850
CREATED:20220607T092330Z
LAST-MODIFIED:20220607T092416Z
UID:5232-1647082800-1647082800@www.talamancadejarama.org
SUMMARY:Preparando las FIESTAS PATRONALES 2022
DESCRIPTION:
URL:https://www.talamancadejarama.org/evento/preparando-las-fiestas-patronales-2022/
LOCATION:Salón del Puente\, C. de la Villa\, 1\, 28160 Talamanca de Jarama\, Madrid\, Talamanca de Jarama\, Madrid
CATEGORIES:Festividades locales
ATTACH;FMTTYPE=image/jpeg:https://www.talamancadejarama.org/wp-content/uploads/2022/06/fiestas-2022-752x1024-1.jpg
END:VEVENT
END:VCALENDAR