BEGIN:VCALENDAR
VERSION:2.0
PRODID:-//Talamanca - ECPv6.15.15//NONSGML v1.0//EN
CALSCALE:GREGORIAN
METHOD:PUBLISH
X-ORIGINAL-URL:https://www.talamancadejarama.org
X-WR-CALDESC:Eventos para Talamanca
REFRESH-INTERVAL;VALUE=DURATION:PT1H
X-Robots-Tag:noindex
X-PUBLISHED-TTL:PT1H
BEGIN:VTIMEZONE
TZID:Europe/Paris
BEGIN:DAYLIGHT
TZOFFSETFROM:+0100
TZOFFSETTO:+0200
TZNAME:CEST
DTSTART:20180325T010000
END:DAYLIGHT
BEGIN:STANDARD
TZOFFSETFROM:+0200
TZOFFSETTO:+0100
TZNAME:CET
DTSTART:20181028T010000
END:STANDARD
BEGIN:DAYLIGHT
TZOFFSETFROM:+0100
TZOFFSETTO:+0200
TZNAME:CEST
DTSTART:20190331T010000
END:DAYLIGHT
BEGIN:STANDARD
TZOFFSETFROM:+0200
TZOFFSETTO:+0100
TZNAME:CET
DTSTART:20191027T010000
END:STANDARD
BEGIN:DAYLIGHT
TZOFFSETFROM:+0100
TZOFFSETTO:+0200
TZNAME:CEST
DTSTART:20200329T010000
END:DAYLIGHT
BEGIN:STANDARD
TZOFFSETFROM:+0200
TZOFFSETTO:+0100
TZNAME:CET
DTSTART:20201025T010000
END:STANDARD
END:VTIMEZONE
BEGIN:VEVENT
DTSTART;TZID=Europe/Paris:20190426T000000
DTEND;TZID=Europe/Paris:20190505T000000
DTSTAMP:20260422T141008
CREATED:20220111T105209Z
LAST-MODIFIED:20220114T133652Z
UID:4359-1556236800-1557014400@www.talamancadejarama.org
SUMMARY:Programa Fiestas Patronales 2019
DESCRIPTION:
URL:https://www.talamancadejarama.org/evento/programa-fiestas-patronales-2019/
CATEGORIES:Festividades locales
ATTACH;FMTTYPE=image/jpeg:https://www.talamancadejarama.org/wp-content/uploads/2022/01/Portada-Programa-Fiestas-Patronales-2019.jpg
END:VEVENT
BEGIN:VEVENT
DTSTART;VALUE=DATE:20190501
DTEND;VALUE=DATE:20190502
DTSTAMP:20260422T141008
CREATED:20220112T103839Z
LAST-MODIFIED:20220114T133743Z
UID:4670-1556668800-1556755199@www.talamancadejarama.org
SUMMARY:FIESTAS PATRONALES 2019. MIÉRCOLES 1 DE MAYO. CELEBRACIÓN DEL DÍA DEL NIÑO.
DESCRIPTION:
URL:https://www.talamancadejarama.org/evento/fiestas-patronales-2019-miercoles-1-de-mayo-celebracion-del-dia-del-nino/
CATEGORIES:Festividades locales
END:VEVENT
BEGIN:VEVENT
DTSTART;VALUE=DATE:20190501
DTEND;VALUE=DATE:20190502
DTSTAMP:20260422T141008
CREATED:20220112T103231Z
LAST-MODIFIED:20220114T133734Z
UID:4664-1556668800-1556755199@www.talamancadejarama.org
SUMMARY:FIESTAS PATRONALES 2019. MIÉRCOLES 1 DE MAYO. LA BANDA DEL CANTE PIRATA a las 19.00 h.
DESCRIPTION:
URL:https://www.talamancadejarama.org/evento/fiestas-patronales-2019-miercoles-1-de-mayo-la-banda-del-cante-pirata-a-las-19-00-h/
CATEGORIES:Festividades locales
ATTACH;FMTTYPE=image/jpeg:https://www.talamancadejarama.org/wp-content/uploads/2022/01/1-DE-MAYO.-CANTE-PIRATA.jpg
END:VEVENT
BEGIN:VEVENT
DTSTART;TZID=Europe/Paris:20190502T080000
DTEND;TZID=Europe/Paris:20190502T170000
DTSTAMP:20260422T141008
CREATED:20220112T110019Z
LAST-MODIFIED:20220114T133821Z
UID:4687-1556784000-1556816400@www.talamancadejarama.org
SUMMARY:FIESTAS PATRONALES 2019. JUEVES 2 DE MAYO. 13.00 H. ACTUACIÓN: GRUPO «ADÚO»
DESCRIPTION:
URL:https://www.talamancadejarama.org/evento/fiestas-patronales-2019-jueves-2-de-mayo-13-00-h-actuacion-grupo-aduo/
CATEGORIES:Festividades locales
ATTACH;FMTTYPE=image/jpeg:https://www.talamancadejarama.org/wp-content/uploads/2022/01/2-MAYO.-A-DUO.jpg
END:VEVENT
BEGIN:VEVENT
DTSTART;TZID=Europe/Paris:20190502T093000
DTEND;TZID=Europe/Paris:20190502T113000
DTSTAMP:20260422T141008
CREATED:20220112T105116Z
LAST-MODIFIED:20220114T133815Z
UID:4684-1556789400-1556796600@www.talamancadejarama.org
SUMMARY:FIESTAS PATRONALES 2019. JUEVES 2 DE MAYO. DE 9.30 a 11.30 h. VUELO CAUTIVO EN GLOBO AEROESTÁTICO. Lugar: La Cartuja.
DESCRIPTION:
URL:https://www.talamancadejarama.org/evento/fiestas-patronales-2019-jueves-2-de-mayo-de-9-30-a-11-30-h-vuelo-cautivo-en-globo-aeroestatico-lugar-la-cartuja/
CATEGORIES:Festividades locales
ATTACH;FMTTYPE=image/jpeg:https://www.talamancadejarama.org/wp-content/uploads/2022/01/2-DE-MAYO.-GLOBO-VUELO-CAUTIVO.jpg
END:VEVENT
BEGIN:VEVENT
DTSTART;TZID=Europe/Paris:20190502T120000
DTEND;TZID=Europe/Paris:20190502T120000
DTSTAMP:20260422T141008
CREATED:20220112T110203Z
LAST-MODIFIED:20220114T133825Z
UID:4690-1556798400-1556798400@www.talamancadejarama.org
SUMMARY:FIESTAS PATRONALES 2019. JUEVES 2 DE MAYO. 12.00 h. ENCIERRO INFANTIL CON CARRETONES. Organiza. Asociación Cultural Peña Taurina «Los Timbales».
DESCRIPTION:
URL:https://www.talamancadejarama.org/evento/fiestas-patronales-2019-jueves-2-de-mayo-12-00-h-encierro-infantil-con-carretones-organiza-asociacion-cultural-pena-taurina-los-timbales/
CATEGORIES:Festividades locales
ATTACH;FMTTYPE=image/jpeg:https://www.talamancadejarama.org/wp-content/uploads/2022/01/2-MAYO.-ENCIERRO-INFANTIL.jpg
END:VEVENT
END:VCALENDAR