BEGIN:VCALENDAR
VERSION:2.0
PRODID:-//Talamanca - ECPv6.15.15//NONSGML v1.0//EN
CALSCALE:GREGORIAN
METHOD:PUBLISH
X-WR-CALNAME:Talamanca
X-ORIGINAL-URL:https://www.talamancadejarama.org
X-WR-CALDESC:Eventos para Talamanca
REFRESH-INTERVAL;VALUE=DURATION:PT1H
X-Robots-Tag:noindex
X-PUBLISHED-TTL:PT1H
BEGIN:VTIMEZONE
TZID:Europe/Paris
BEGIN:DAYLIGHT
TZOFFSETFROM:+0100
TZOFFSETTO:+0200
TZNAME:CEST
DTSTART:20170326T010000
END:DAYLIGHT
BEGIN:STANDARD
TZOFFSETFROM:+0200
TZOFFSETTO:+0100
TZNAME:CET
DTSTART:20171029T010000
END:STANDARD
BEGIN:DAYLIGHT
TZOFFSETFROM:+0100
TZOFFSETTO:+0200
TZNAME:CEST
DTSTART:20180325T010000
END:DAYLIGHT
BEGIN:STANDARD
TZOFFSETFROM:+0200
TZOFFSETTO:+0100
TZNAME:CET
DTSTART:20181028T010000
END:STANDARD
BEGIN:DAYLIGHT
TZOFFSETFROM:+0100
TZOFFSETTO:+0200
TZNAME:CEST
DTSTART:20190331T010000
END:DAYLIGHT
BEGIN:STANDARD
TZOFFSETFROM:+0200
TZOFFSETTO:+0100
TZNAME:CET
DTSTART:20191027T010000
END:STANDARD
END:VTIMEZONE
BEGIN:VEVENT
DTSTART;TZID=Europe/Paris:20180323T080000
DTEND;TZID=Europe/Paris:20180323T170000
DTSTAMP:20260423T074613
CREATED:20220113T150454Z
LAST-MODIFIED:20220114T133852Z
UID:4997-1521792000-1521824400@www.talamancadejarama.org
SUMMARY:23 de marzo actividades infantiles (juegos\, dinámicas\, gymkanas…) de 9:00 A 14:00 horas en el Polideportivo. Programa de actividades deportivas de las Fiestas Patronales 2018.
DESCRIPTION:
URL:https://www.talamancadejarama.org/evento/23-de-marzo-actividades-infantiles-juegos-dinamicas-gymkanas-de-900-a-1400-horas-en-el-polideportivo-programa-de-actividades-deportivas-de-las-fiestas-patronales-2018/
CATEGORIES:Festividades locales
ATTACH;FMTTYPE=image/jpeg:https://www.talamancadejarama.org/wp-content/uploads/2022/01/thumbnail_FiestasPatronales2018-723x1024-1.jpg
END:VEVENT
END:VCALENDAR