BEGIN:VCALENDAR
VERSION:2.0
PRODID:-//Talamanca - ECPv6.15.15//NONSGML v1.0//EN
CALSCALE:GREGORIAN
METHOD:PUBLISH
X-WR-CALNAME:Talamanca
X-ORIGINAL-URL:https://www.talamancadejarama.org
X-WR-CALDESC:Eventos para Talamanca
REFRESH-INTERVAL;VALUE=DURATION:PT1H
X-Robots-Tag:noindex
X-PUBLISHED-TTL:PT1H
BEGIN:VTIMEZONE
TZID:Europe/Paris
BEGIN:DAYLIGHT
TZOFFSETFROM:+0100
TZOFFSETTO:+0200
TZNAME:CEST
DTSTART:20170326T010000
END:DAYLIGHT
BEGIN:STANDARD
TZOFFSETFROM:+0200
TZOFFSETTO:+0100
TZNAME:CET
DTSTART:20171029T010000
END:STANDARD
BEGIN:DAYLIGHT
TZOFFSETFROM:+0100
TZOFFSETTO:+0200
TZNAME:CEST
DTSTART:20180325T010000
END:DAYLIGHT
BEGIN:STANDARD
TZOFFSETFROM:+0200
TZOFFSETTO:+0100
TZNAME:CET
DTSTART:20181028T010000
END:STANDARD
BEGIN:DAYLIGHT
TZOFFSETFROM:+0100
TZOFFSETTO:+0200
TZNAME:CEST
DTSTART:20190331T010000
END:DAYLIGHT
BEGIN:STANDARD
TZOFFSETFROM:+0200
TZOFFSETTO:+0100
TZNAME:CET
DTSTART:20191027T010000
END:STANDARD
END:VTIMEZONE
BEGIN:VEVENT
DTSTART;TZID=Europe/Paris:20180323T080000
DTEND;TZID=Europe/Paris:20180323T170000
DTSTAMP:20260423T063104
CREATED:20220113T150454Z
LAST-MODIFIED:20220114T133852Z
UID:4997-1521792000-1521824400@www.talamancadejarama.org
SUMMARY:23 de marzo actividades infantiles (juegos\, dinámicas\, gymkanas…) de 9:00 A 14:00 horas en el Polideportivo. Programa de actividades deportivas de las Fiestas Patronales 2018.
DESCRIPTION:
URL:https://www.talamancadejarama.org/evento/23-de-marzo-actividades-infantiles-juegos-dinamicas-gymkanas-de-900-a-1400-horas-en-el-polideportivo-programa-de-actividades-deportivas-de-las-fiestas-patronales-2018/
CATEGORIES:Festividades locales
ATTACH;FMTTYPE=image/jpeg:https://www.talamancadejarama.org/wp-content/uploads/2022/01/thumbnail_FiestasPatronales2018-723x1024-1.jpg
END:VEVENT
BEGIN:VEVENT
DTSTART;VALUE=DATE:20180328
DTEND;VALUE=DATE:20180329
DTSTAMP:20260423T063104
CREATED:20220112T112300Z
LAST-MODIFIED:20220114T133844Z
UID:4710-1522195200-1522281599@www.talamancadejarama.org
SUMMARY:Explotación de la barra del bar del salón «El Puente» durante las Fiestas Patronales del año 2018
DESCRIPTION:
URL:https://www.talamancadejarama.org/evento/explotacion-de-la-barra-del-bar-del-salon-el-puente-durante-las-fiestas-patronales-del-ano-2018/
CATEGORIES:Festividades locales
ATTACH;FMTTYPE=image/jpeg:https://www.talamancadejarama.org/wp-content/uploads/2022/01/AVISO-AGUA-737x1024-1.jpg
END:VEVENT
BEGIN:VEVENT
DTSTART;TZID=Europe/Paris:20180331T150000
DTEND;TZID=Europe/Paris:20180401T150000
DTSTAMP:20260423T063104
CREATED:20220111T091720Z
LAST-MODIFIED:20220114T133647Z
UID:4284-1522508400-1522594800@www.talamancadejarama.org
SUMMARY:Torneo de Mus Fiestas Patronales 2018
DESCRIPTION:
URL:https://www.talamancadejarama.org/evento/torneo-de-mus-fiestas-patronales-2018/
CATEGORIES:Festividades locales
ATTACH;FMTTYPE=image/jpeg:https://www.talamancadejarama.org/wp-content/uploads/2022/01/mus.jpg
END:VEVENT
END:VCALENDAR