BEGIN:VCALENDAR
VERSION:2.0
PRODID:-//Talamanca - ECPv6.15.15//NONSGML v1.0//EN
CALSCALE:GREGORIAN
METHOD:PUBLISH
X-WR-CALNAME:Talamanca
X-ORIGINAL-URL:https://www.talamancadejarama.org
X-WR-CALDESC:Eventos para Talamanca
REFRESH-INTERVAL;VALUE=DURATION:PT1H
X-Robots-Tag:noindex
X-PUBLISHED-TTL:PT1H
BEGIN:VTIMEZONE
TZID:Europe/Paris
BEGIN:DAYLIGHT
TZOFFSETFROM:+0100
TZOFFSETTO:+0200
TZNAME:CEST
DTSTART:20220327T010000
END:DAYLIGHT
BEGIN:STANDARD
TZOFFSETFROM:+0200
TZOFFSETTO:+0100
TZNAME:CET
DTSTART:20221030T010000
END:STANDARD
BEGIN:DAYLIGHT
TZOFFSETFROM:+0100
TZOFFSETTO:+0200
TZNAME:CEST
DTSTART:20230326T010000
END:DAYLIGHT
BEGIN:STANDARD
TZOFFSETFROM:+0200
TZOFFSETTO:+0100
TZNAME:CET
DTSTART:20231029T010000
END:STANDARD
BEGIN:DAYLIGHT
TZOFFSETFROM:+0100
TZOFFSETTO:+0200
TZNAME:CEST
DTSTART:20240331T010000
END:DAYLIGHT
BEGIN:STANDARD
TZOFFSETFROM:+0200
TZOFFSETTO:+0100
TZNAME:CET
DTSTART:20241027T010000
END:STANDARD
END:VTIMEZONE
BEGIN:VEVENT
DTSTART;VALUE=DATE:20230610
DTEND;VALUE=DATE:20230611
DTSTAMP:20260419T215157
CREATED:20230515T204304Z
LAST-MODIFIED:20230515T204304Z
UID:6220-1686355200-1686441599@www.talamancadejarama.org
SUMMARY:Ruta turística Talamanca 10 de Junio.
DESCRIPTION:Sábado 10 de Junio tenemos RUTA TURISTICA.\n\n\nConoce la historia y curiosidades de Talamanca. Conoceremos el municipio en un recorrido muy completo (excepto Cartuja\, se encuentra en obras)\n\n\n Es necesaria inscripción;\n\n\n ecomuseo@talamancadejarama.org\n 722165487
URL:https://www.talamancadejarama.org/evento/ruta-turistica-talamanca-10-de-junio/
LOCATION:Polideportivo\, Pl. del Santo Ángel\, s/n\, Talamanca de Jatama\, Madrid\, 28160\, España
CATEGORIES:Ecomuseo
ATTACH;FMTTYPE=image/jpeg:https://www.talamancadejarama.org/wp-content/uploads/2022/12/mapa_conmonumentos_talamanca-1-e1673470191600.jpg
END:VEVENT
END:VCALENDAR