BEGIN:VCALENDAR
VERSION:2.0
PRODID:-//Talamanca - ECPv6.15.15//NONSGML v1.0//EN
CALSCALE:GREGORIAN
METHOD:PUBLISH
X-ORIGINAL-URL:https://www.talamancadejarama.org
X-WR-CALDESC:Eventos para Talamanca
REFRESH-INTERVAL;VALUE=DURATION:PT1H
X-Robots-Tag:noindex
X-PUBLISHED-TTL:PT1H
BEGIN:VTIMEZONE
TZID:Europe/Paris
BEGIN:DAYLIGHT
TZOFFSETFROM:+0100
TZOFFSETTO:+0200
TZNAME:CEST
DTSTART:20210328T010000
END:DAYLIGHT
BEGIN:STANDARD
TZOFFSETFROM:+0200
TZOFFSETTO:+0100
TZNAME:CET
DTSTART:20211031T010000
END:STANDARD
BEGIN:DAYLIGHT
TZOFFSETFROM:+0100
TZOFFSETTO:+0200
TZNAME:CEST
DTSTART:20220327T010000
END:DAYLIGHT
BEGIN:STANDARD
TZOFFSETFROM:+0200
TZOFFSETTO:+0100
TZNAME:CET
DTSTART:20221030T010000
END:STANDARD
BEGIN:DAYLIGHT
TZOFFSETFROM:+0100
TZOFFSETTO:+0200
TZNAME:CEST
DTSTART:20230326T010000
END:DAYLIGHT
BEGIN:STANDARD
TZOFFSETFROM:+0200
TZOFFSETTO:+0100
TZNAME:CET
DTSTART:20231029T010000
END:STANDARD
END:VTIMEZONE
BEGIN:VEVENT
DTSTART;TZID=Europe/Paris:20220305T110000
DTEND;TZID=Europe/Paris:20220305T170000
DTSTAMP:20260420T172647
CREATED:20220114T085847Z
LAST-MODIFIED:20220114T133543Z
UID:5038-1646478000-1646499600@www.talamancadejarama.org
SUMMARY:🟠 Ruta turística
DESCRIPTION:
URL:https://www.talamancadejarama.org/evento/%f0%9f%9f%a0-ruta-turistica-3/
CATEGORIES:Ecomuseo
ATTACH;FMTTYPE=image/jpeg:https://www.talamancadejarama.org/wp-content/uploads/2022/01/rutas-turisticas-724x1024-2.jpg
END:VEVENT
BEGIN:VEVENT
DTSTART;TZID=Europe/Paris:20220312T080000
DTEND;TZID=Europe/Paris:20220312T170000
DTSTAMP:20260420T172647
CREATED:20220114T091821Z
LAST-MODIFIED:20220114T133547Z
UID:5058-1647072000-1647104400@www.talamancadejarama.org
SUMMARY:🟢 Flora y Fauna
DESCRIPTION:
URL:https://www.talamancadejarama.org/evento/%f0%9f%9f%a2-flora-y-fauna-3/
CATEGORIES:Ecomuseo
ATTACH;FMTTYPE=image/jpeg:https://www.talamancadejarama.org/wp-content/uploads/2022/01/flora-y-fauna-724x1024-1.jpg
END:VEVENT
BEGIN:VEVENT
DTSTART;TZID=Europe/Paris:20220326T080000
DTEND;TZID=Europe/Paris:20220326T170000
DTSTAMP:20260420T172647
CREATED:20220114T090922Z
LAST-MODIFIED:20220114T133551Z
UID:5048-1648281600-1648314000@www.talamancadejarama.org
SUMMARY:🔵 Joya del Románico
DESCRIPTION:
URL:https://www.talamancadejarama.org/evento/%f0%9f%94%b5-joya-del-romanico-3/
CATEGORIES:Ecomuseo
ATTACH;FMTTYPE=image/jpeg:https://www.talamancadejarama.org/wp-content/uploads/2022/01/joya-romanico-724x1024-1.jpg
END:VEVENT
END:VCALENDAR