BEGIN:VCALENDAR
VERSION:2.0
PRODID:-//Talamanca - ECPv6.15.15//NONSGML v1.0//EN
CALSCALE:GREGORIAN
METHOD:PUBLISH
X-WR-CALNAME:Talamanca
X-ORIGINAL-URL:https://www.talamancadejarama.org
X-WR-CALDESC:Eventos para Talamanca
REFRESH-INTERVAL;VALUE=DURATION:PT1H
X-Robots-Tag:noindex
X-PUBLISHED-TTL:PT1H
BEGIN:VTIMEZONE
TZID:Europe/Paris
BEGIN:DAYLIGHT
TZOFFSETFROM:+0100
TZOFFSETTO:+0200
TZNAME:CEST
DTSTART:20220327T010000
END:DAYLIGHT
BEGIN:STANDARD
TZOFFSETFROM:+0200
TZOFFSETTO:+0100
TZNAME:CET
DTSTART:20221030T010000
END:STANDARD
BEGIN:DAYLIGHT
TZOFFSETFROM:+0100
TZOFFSETTO:+0200
TZNAME:CEST
DTSTART:20230326T010000
END:DAYLIGHT
BEGIN:STANDARD
TZOFFSETFROM:+0200
TZOFFSETTO:+0100
TZNAME:CET
DTSTART:20231029T010000
END:STANDARD
BEGIN:DAYLIGHT
TZOFFSETFROM:+0100
TZOFFSETTO:+0200
TZNAME:CEST
DTSTART:20240331T010000
END:DAYLIGHT
BEGIN:STANDARD
TZOFFSETFROM:+0200
TZOFFSETTO:+0100
TZNAME:CET
DTSTART:20241027T010000
END:STANDARD
END:VTIMEZONE
BEGIN:VEVENT
DTSTART;TZID=Europe/Paris:20230127T190000
DTEND;TZID=Europe/Paris:20230127T210000
DTSTAMP:20260419T155835
CREATED:20230118T121637Z
LAST-MODIFIED:20230118T121637Z
UID:5968-1674846000-1674853200@www.talamancadejarama.org
SUMMARY:XIX ENCUENTRO LITERARIO MANUEL VILAS BIBLIOTECA MUNICIPAL
DESCRIPTION:El Viernes 27 de enero nos visita el poeta y escritor Manuel Vilas. Charlaremos con él de su obra «Ordesa» (2018)\, «Alegría» (Finalista Premio Planeta 2019)\, «Los besos» (2021)\, «Una sola vida» antología poética (2022)…. y nos presentará su última novela «Nosotros» galardonada con el Premio Nadal 2023.
URL:https://www.talamancadejarama.org/evento/xix-encuentro-literario-manuel-vilas-biblioteca-municipal/
LOCATION:Biblioteca\, C. de la Fuente del Arca\, 19\, 28160 Talamanca de Jarama\, Madrid\, Talamanca de Jarama\, Madrid\, 28160
CATEGORIES:Cultura
ATTACH;FMTTYPE=image/jpeg:https://www.talamancadejarama.org/wp-content/uploads/2023/01/IMG-20230118-WA0004-e1674043213456.jpg
END:VEVENT
END:VCALENDAR